BEGIN:VCALENDAR
METHOD:PUBLISH
VERSION:2.0
CALSCALE:GREGORIAN
PRODID:-//NONSGML Sandhills Development\, LLC//NONSGML Sugar Calendar Fe
 eds v3.6.1//EN
X-WR-CALNAME:Fall Getaway
X-WR-CALDESC:HINU Fellowship
X-WR-TIMEZONE:America/Chicago
BEGIN:VTIMEZONE
TZID:America/Chicago
BEGIN:DAYLIGHT
TZOFFSETFROM:-0500
TZOFFSETTO:-0500
DTSTART:20240404T120000
TZNAME:CDT
END:DAYLIGHT
END:VTIMEZONE
BEGIN:VTIMEZONE
TZID:America/Chicago
BEGIN:DAYLIGHT
TZOFFSETFROM:-0500
TZOFFSETTO:-0500
DTSTART:20240404T120000
TZNAME:CDT
END:DAYLIGHT
END:VTIMEZONE
BEGIN:VEVENT
SUMMARY:Fall Getaway
DESCRIPTION:Fall Getaway is a weekend retreat for college students to in
 tentionally connect with Creator.
URL;VALUE=URI:https://hinufellowship.com/events/fall-getaway/
UID:urn:uuid:cca31da7-0b26-41a4-a26e-9864bc6b6bc8
STATUS:CONFIRMED
ORGANIZER:
DTSTAMP:20260421T231119Z
DTSTART;VALUE=DATE:20241004
DTEND;VALUE=DATE:20241006
LOCATION:Youthfront Camp West | \n21667 Spoon Creek Rd\, Edgerton\, KS 6
 6021
END:VEVENT
END:VCALENDAR